BEGIN:VCALENDAR
VERSION:2.0
PRODID:-//National Road Carriers - ECPv6.15.20//NONSGML v1.0//EN
CALSCALE:GREGORIAN
METHOD:PUBLISH
X-ORIGINAL-URL:https://natroad.co.nz
X-WR-CALDESC:Events for National Road Carriers
REFRESH-INTERVAL;VALUE=DURATION:PT1H
X-Robots-Tag:noindex
X-PUBLISHED-TTL:PT1H
BEGIN:VTIMEZONE
TZID:Pacific/Auckland
BEGIN:STANDARD
TZOFFSETFROM:+1300
TZOFFSETTO:+1200
TZNAME:NZST
DTSTART:20240406T140000
END:STANDARD
BEGIN:DAYLIGHT
TZOFFSETFROM:+1200
TZOFFSETTO:+1300
TZNAME:NZDT
DTSTART:20240928T140000
END:DAYLIGHT
BEGIN:STANDARD
TZOFFSETFROM:+1300
TZOFFSETTO:+1200
TZNAME:NZST
DTSTART:20250405T140000
END:STANDARD
BEGIN:DAYLIGHT
TZOFFSETFROM:+1200
TZOFFSETTO:+1300
TZNAME:NZDT
DTSTART:20250927T140000
END:DAYLIGHT
BEGIN:STANDARD
TZOFFSETFROM:+1300
TZOFFSETTO:+1200
TZNAME:NZST
DTSTART:20260404T140000
END:STANDARD
BEGIN:DAYLIGHT
TZOFFSETFROM:+1200
TZOFFSETTO:+1300
TZNAME:NZDT
DTSTART:20260926T140000
END:DAYLIGHT
END:VTIMEZONE
BEGIN:VEVENT
DTSTART;TZID=Pacific/Auckland:20251126T080000
DTEND;TZID=Pacific/Auckland:20251127T170000
DTSTAMP:20260423T180422
CREATED:20250916T010347Z
LAST-MODIFIED:20250916T010347Z
UID:16224-1764144000-1764262800@natroad.co.nz
SUMMARY:IRTENZ 19th International Conference 26th - 27th November Jet Park Hotel Hamilton Airport
DESCRIPTION:MOVING NEW ZEALAND FORWARD\nThe Future of Heavy Vehicles\nJet Park Hotel\, Hamilton Airport\, 26th-27th November 2025\nThe IRTENZ 19th International Conference \n\nPower Train and Energy Supply\nVehicle Technology Update\nEngineering Vehicles to Manage Pavement Wear\nCompliance Systems\nKeynote International Speakers\n\nDownload Conference Program \nDownload Conference Registration \nFull Conference package $552.00 \nEarlybird (paid by 30/09/25) $512.00 \nDay rate excluding Conference dinner $230.00 \nAdditional dinner tickets $95.00 \nIRTENZ members receive a discount. \nFor accommodation bookings contact Jet Park on line –
URL:https://natroad.co.nz/event/irtenz_20/
LOCATION:Jet Park Hotel Hamilton Airport\, 201 Airport Road\, Hamilton\, Waikato\, 3282\, New Zealand
ORGANIZER;CN="Kate Bucknell":MAILTO:kateb@tesnz.com
END:VEVENT
END:VCALENDAR